BEGIN:VCALENDAR
VERSION:2.0
PRODID:-//Thomas Arnold Primary School - ECPv6.3.7//NONSGML v1.0//EN
CALSCALE:GREGORIAN
METHOD:PUBLISH
X-ORIGINAL-URL:https://www.thomasarnold.bardaglea.org.uk
X-WR-CALDESC:Events for Thomas Arnold Primary School
REFRESH-INTERVAL;VALUE=DURATION:PT1H
X-Robots-Tag:noindex
X-PUBLISHED-TTL:PT1H
BEGIN:VTIMEZONE
TZID:UTC
BEGIN:STANDARD
TZOFFSETFROM:+0000
TZOFFSETTO:+0000
TZNAME:UTC
DTSTART:20250101T000000
END:STANDARD
END:VTIMEZONE
BEGIN:VEVENT
DTSTART;VALUE=DATE:20250113
DTEND;VALUE=DATE:20250114
DTSTAMP:20260419T120035
CREATED:20250113T105827Z
LAST-MODIFIED:20250113T105827Z
UID:9078-1736726400-1736812799@www.thomasarnold.bardaglea.org.uk
SUMMARY:Year 6 Visit to Docklands Museum
DESCRIPTION:
URL:https://www.thomasarnold.bardaglea.org.uk/calendar/year-6-visit-to-docklands-museum/
CATEGORIES:Class Event,Year Group Event
END:VEVENT
END:VCALENDAR