BEGIN:VCALENDAR
VERSION:2.0
PRODID:-//Thomas Arnold Primary School - ECPv6.3.7//NONSGML v1.0//EN
CALSCALE:GREGORIAN
METHOD:PUBLISH
X-WR-CALNAME:Thomas Arnold Primary School
X-ORIGINAL-URL:https://www.thomasarnold.bardaglea.org.uk
X-WR-CALDESC:Events for Thomas Arnold Primary School
REFRESH-INTERVAL;VALUE=DURATION:PT1H
X-Robots-Tag:noindex
X-PUBLISHED-TTL:PT1H
BEGIN:VTIMEZONE
TZID:UTC
BEGIN:STANDARD
TZOFFSETFROM:+0000
TZOFFSETTO:+0000
TZNAME:UTC
DTSTART:20240101T000000
END:STANDARD
END:VTIMEZONE
BEGIN:VEVENT
DTSTART;VALUE=DATE:20241219
DTEND;VALUE=DATE:20241220
DTSTAMP:20260419T133705
CREATED:20241212T164130Z
LAST-MODIFIED:20241212T164130Z
UID:8833-1734566400-1734652799@www.thomasarnold.bardaglea.org.uk
SUMMARY:Santa’s Visit
DESCRIPTION:
URL:https://www.thomasarnold.bardaglea.org.uk/calendar/santas-visit/
CATEGORIES:Whole School Event,Year Group Event
END:VEVENT
BEGIN:VEVENT
DTSTART;VALUE=DATE:20241219
DTEND;VALUE=DATE:20241220
DTSTAMP:20260419T133705
CREATED:20241212T164328Z
LAST-MODIFIED:20241212T164347Z
UID:8837-1734566400-1734652799@www.thomasarnold.bardaglea.org.uk
SUMMARY:Nursery Closes
DESCRIPTION:
URL:https://www.thomasarnold.bardaglea.org.uk/calendar/nursery-closes/
CATEGORIES:Year Group Event
END:VEVENT
BEGIN:VEVENT
DTSTART;TZID=UTC:20241219T091500
DTEND;TZID=UTC:20241219T150000
DTSTAMP:20260419T133705
CREATED:20241212T164256Z
LAST-MODIFIED:20241212T164657Z
UID:8835-1734599700-1734620400@www.thomasarnold.bardaglea.org.uk
SUMMARY:Reception Christmas Performance
DESCRIPTION:AM: 9:15-9:45am\nPM: 2:30-3:00pm
URL:https://www.thomasarnold.bardaglea.org.uk/calendar/christmas-performance-reception/
CATEGORIES:Year Group Event
END:VEVENT
BEGIN:VEVENT
DTSTART;TZID=UTC:20241219T150500
DTEND;TZID=UTC:20241219T151500
DTSTAMP:20260419T133705
CREATED:20241212T164502Z
LAST-MODIFIED:20241212T164600Z
UID:8839-1734620700-1734621300@www.thomasarnold.bardaglea.org.uk
SUMMARY:Christmas Carols - Year 5 & 6
DESCRIPTION:
URL:https://www.thomasarnold.bardaglea.org.uk/calendar/christmas-carols-year-5-6/
CATEGORIES:Year Group Event
END:VEVENT
END:VCALENDAR