BEGIN:VCALENDAR
VERSION:2.0
PRODID:-//Thomas Arnold Primary School - ECPv6.3.7//NONSGML v1.0//EN
CALSCALE:GREGORIAN
METHOD:PUBLISH
X-WR-CALNAME:Thomas Arnold Primary School
X-ORIGINAL-URL:https://www.thomasarnold.bardaglea.org.uk
X-WR-CALDESC:Events for Thomas Arnold Primary School
REFRESH-INTERVAL;VALUE=DURATION:PT1H
X-Robots-Tag:noindex
X-PUBLISHED-TTL:PT1H
BEGIN:VTIMEZONE
TZID:UTC
BEGIN:STANDARD
TZOFFSETFROM:+0000
TZOFFSETTO:+0000
TZNAME:UTC
DTSTART:20240101T000000
END:STANDARD
END:VTIMEZONE
BEGIN:VEVENT
DTSTART;TZID=UTC:20241218T104500
DTEND;TZID=UTC:20241218T121500
DTSTAMP:20260419T133738
CREATED:20241212T163913Z
LAST-MODIFIED:20241213T110933Z
UID:8829-1734518700-1734524100@www.thomasarnold.bardaglea.org.uk
SUMMARY:Year 1 St Martin's Church Visit
DESCRIPTION:
URL:https://www.thomasarnold.bardaglea.org.uk/calendar/year-1-church-visit/
CATEGORIES:Year Group Event
END:VEVENT
BEGIN:VEVENT
DTSTART;TZID=UTC:20241218T150500
DTEND;TZID=UTC:20241218T151500
DTSTAMP:20260419T133738
CREATED:20241212T164049Z
LAST-MODIFIED:20241212T164619Z
UID:8831-1734534300-1734534900@www.thomasarnold.bardaglea.org.uk
SUMMARY:Christmas Carols Year 3 & 4
DESCRIPTION:
URL:https://www.thomasarnold.bardaglea.org.uk/calendar/christmas-carols-year-3-4/
CATEGORIES:Year Group Event
END:VEVENT
END:VCALENDAR