BEGIN:VCALENDAR
VERSION:2.0
PRODID:-//Thomas Arnold Primary School - ECPv6.3.7//NONSGML v1.0//EN
CALSCALE:GREGORIAN
METHOD:PUBLISH
X-WR-CALNAME:Thomas Arnold Primary School
X-ORIGINAL-URL:https://www.thomasarnold.bardaglea.org.uk
X-WR-CALDESC:Events for Thomas Arnold Primary School
REFRESH-INTERVAL;VALUE=DURATION:PT1H
X-Robots-Tag:noindex
X-PUBLISHED-TTL:PT1H
BEGIN:VTIMEZONE
TZID:UTC
BEGIN:STANDARD
TZOFFSETFROM:+0000
TZOFFSETTO:+0000
TZNAME:UTC
DTSTART:20240101T000000
END:STANDARD
END:VTIMEZONE
BEGIN:VEVENT
DTSTART;TZID=UTC:20241217T104500
DTEND;TZID=UTC:20241217T150000
DTSTAMP:20260419T133707
CREATED:20241212T163604Z
LAST-MODIFIED:20241212T163604Z
UID:8826-1734432300-1734447600@www.thomasarnold.bardaglea.org.uk
SUMMARY:Nursery Christmas Performance
DESCRIPTION:ACORN AM: 10:45-11:15am\nACORN FT & PM: 2:30-3:00pm
URL:https://www.thomasarnold.bardaglea.org.uk/calendar/nursery-christmas-performance/
CATEGORIES:Year Group Event
END:VEVENT
BEGIN:VEVENT
DTSTART;TZID=UTC:20241217T150500
DTEND;TZID=UTC:20241217T151500
DTSTAMP:20260419T133707
CREATED:20241212T163301Z
LAST-MODIFIED:20241212T163716Z
UID:8824-1734447900-1734448500@www.thomasarnold.bardaglea.org.uk
SUMMARY:Christmas Carols - Year 1 & 2
DESCRIPTION:
URL:https://www.thomasarnold.bardaglea.org.uk/calendar/christmas-carols-year-1-2/
CATEGORIES:Year Group Event
END:VEVENT
END:VCALENDAR