BEGIN:VCALENDAR
VERSION:2.0
PRODID:-//Thomas Arnold Primary School - ECPv6.3.7//NONSGML v1.0//EN
CALSCALE:GREGORIAN
METHOD:PUBLISH
X-WR-CALNAME:Thomas Arnold Primary School
X-ORIGINAL-URL:https://www.thomasarnold.bardaglea.org.uk
X-WR-CALDESC:Events for Thomas Arnold Primary School
REFRESH-INTERVAL;VALUE=DURATION:PT1H
X-Robots-Tag:noindex
X-PUBLISHED-TTL:PT1H
BEGIN:VTIMEZONE
TZID:UTC
BEGIN:STANDARD
TZOFFSETFROM:+0000
TZOFFSETTO:+0000
TZNAME:UTC
DTSTART:20240101T000000
END:STANDARD
END:VTIMEZONE
BEGIN:VEVENT
DTSTART;TZID=UTC:20241216T090000
DTEND;TZID=UTC:20241216T110000
DTSTAMP:20260419T133742
CREATED:20241212T162929Z
LAST-MODIFIED:20241212T162929Z
UID:8822-1734339600-1734346800@www.thomasarnold.bardaglea.org.uk
SUMMARY:ARP Breakfast with Santa
DESCRIPTION:
URL:https://www.thomasarnold.bardaglea.org.uk/calendar/arp-breakfast-with-santa/
CATEGORIES:Class Event
END:VEVENT
BEGIN:VEVENT
DTSTART;TZID=UTC:20241216T091500
DTEND;TZID=UTC:20241216T100000
DTSTAMP:20260419T133742
CREATED:20241212T162508Z
LAST-MODIFIED:20241212T162741Z
UID:8816-1734340500-1734343200@www.thomasarnold.bardaglea.org.uk
SUMMARY:Year 3 Parent Showcase Assembly
DESCRIPTION:
URL:https://www.thomasarnold.bardaglea.org.uk/calendar/year-3-parent-showcase-assembly/
CATEGORIES:Year Group Event
END:VEVENT
END:VCALENDAR