BEGIN:VCALENDAR
VERSION:2.0
PRODID:-//Thomas Arnold Primary School - ECPv6.3.7//NONSGML v1.0//EN
CALSCALE:GREGORIAN
METHOD:PUBLISH
X-WR-CALNAME:Thomas Arnold Primary School
X-ORIGINAL-URL:https://www.thomasarnold.bardaglea.org.uk
X-WR-CALDESC:Events for Thomas Arnold Primary School
REFRESH-INTERVAL;VALUE=DURATION:PT1H
X-Robots-Tag:noindex
X-PUBLISHED-TTL:PT1H
BEGIN:VTIMEZONE
TZID:UTC
BEGIN:STANDARD
TZOFFSETFROM:+0000
TZOFFSETTO:+0000
TZNAME:UTC
DTSTART:20240101T000000
END:STANDARD
END:VTIMEZONE
BEGIN:VEVENT
DTSTART;VALUE=DATE:20241212
DTEND;VALUE=DATE:20241213
DTSTAMP:20260419T133737
CREATED:20240919T141750Z
LAST-MODIFIED:20241129T124917Z
UID:8109-1733961600-1734047999@www.thomasarnold.bardaglea.org.uk
SUMMARY:Jack and The Beanstalk Pantomime
DESCRIPTION:
URL:https://www.thomasarnold.bardaglea.org.uk/calendar/pantomime-in-school/
CATEGORIES:Class Event,Observance,Whole School Event,Year Group Event
END:VEVENT
END:VCALENDAR