BEGIN:VCALENDAR
VERSION:2.0
PRODID:-//Thomas Arnold Primary School - ECPv6.3.7//NONSGML v1.0//EN
CALSCALE:GREGORIAN
METHOD:PUBLISH
X-ORIGINAL-URL:https://www.thomasarnold.bardaglea.org.uk
X-WR-CALDESC:Events for Thomas Arnold Primary School
REFRESH-INTERVAL;VALUE=DURATION:PT1H
X-Robots-Tag:noindex
X-PUBLISHED-TTL:PT1H
BEGIN:VTIMEZONE
TZID:UTC
BEGIN:STANDARD
TZOFFSETFROM:+0000
TZOFFSETTO:+0000
TZNAME:UTC
DTSTART:20240101T000000
END:STANDARD
END:VTIMEZONE
BEGIN:VEVENT
DTSTART;TZID=UTC:20241129T080000
DTEND;TZID=UTC:20241129T133000
DTSTAMP:20260419T151201
CREATED:20241112T163722Z
LAST-MODIFIED:20241112T163722Z
UID:8449-1732867200-1732887000@www.thomasarnold.bardaglea.org.uk
SUMMARY:Moon Beam Theatre
DESCRIPTION:
URL:https://www.thomasarnold.bardaglea.org.uk/calendar/moon-beam-theatre/
CATEGORIES:Year Group Event
END:VEVENT
BEGIN:VEVENT
DTSTART;TZID=UTC:20241129T090000
DTEND;TZID=UTC:20241129T100000
DTSTAMP:20260419T151201
CREATED:20241112T163808Z
LAST-MODIFIED:20241112T163808Z
UID:8451-1732870800-1732874400@www.thomasarnold.bardaglea.org.uk
SUMMARY:Parent Coffee Morning
DESCRIPTION:
URL:https://www.thomasarnold.bardaglea.org.uk/calendar/parent-coffee-morning/
CATEGORIES:Whole School Event
END:VEVENT
END:VCALENDAR